BEGIN:VCALENDAR
VERSION:2.0
PRODID:-//Casa Palestina de Aragón - ECPv6.15.20//NONSGML v1.0//EN
CALSCALE:GREGORIAN
METHOD:PUBLISH
X-ORIGINAL-URL:https://casapalestina.es
X-WR-CALDESC:Eventos para Casa Palestina de Aragón
REFRESH-INTERVAL;VALUE=DURATION:PT1H
X-Robots-Tag:noindex
X-PUBLISHED-TTL:PT1H
BEGIN:VTIMEZONE
TZID:Europe/Madrid
BEGIN:DAYLIGHT
TZOFFSETFROM:+0100
TZOFFSETTO:+0200
TZNAME:CEST
DTSTART:20240331T010000
END:DAYLIGHT
BEGIN:STANDARD
TZOFFSETFROM:+0200
TZOFFSETTO:+0100
TZNAME:CET
DTSTART:20241027T010000
END:STANDARD
BEGIN:DAYLIGHT
TZOFFSETFROM:+0100
TZOFFSETTO:+0200
TZNAME:CEST
DTSTART:20250330T010000
END:DAYLIGHT
BEGIN:STANDARD
TZOFFSETFROM:+0200
TZOFFSETTO:+0100
TZNAME:CET
DTSTART:20251026T010000
END:STANDARD
BEGIN:DAYLIGHT
TZOFFSETFROM:+0100
TZOFFSETTO:+0200
TZNAME:CEST
DTSTART:20260329T010000
END:DAYLIGHT
BEGIN:STANDARD
TZOFFSETFROM:+0200
TZOFFSETTO:+0100
TZNAME:CET
DTSTART:20261025T010000
END:STANDARD
END:VTIMEZONE
BEGIN:VEVENT
DTSTART;TZID=Europe/Madrid:20251121T180000
DTEND;TZID=Europe/Madrid:20251121T180000
DTSTAMP:20260421T104711
CREATED:20251112T135746Z
LAST-MODIFIED:20251112T135746Z
UID:4474-1763748000-1763748000@casapalestina.es
SUMMARY:Charla en Utrillas Casa Palestina Viernes 21
DESCRIPTION:Charrada «Análisis de la situación actual en Gaza» con Ibrahim Abiat\, Presidente de la Casa Palestina de Aragón. \nViernes 21 de Noviembre\, 18:00 h. \nSede de la comarca de las Cuencas Mineras\, Salón de Actos\, Constitución s/n\, Utrillas.
URL:https://casapalestina.es/event/charla-en-utrillas-casa-palestina-viernes-21/
LOCATION:C. Constitución\, s/n\, 44760 Utrillas\, Teruel\, C. Constitución\, s/n\, 44760 Utrillas\, Teruel\, Utrillas\, Teruel\, 44760\, Spain
ATTACH;FMTTYPE=image/jpeg:https://casapalestina.es/wp-content/uploads/2025/11/cuencas-mineras-palestina.jpg
END:VEVENT
BEGIN:VEVENT
DTSTART;TZID=Europe/Madrid:20251120T180000
DTEND;TZID=Europe/Madrid:20251120T193000
DTSTAMP:20260421T104711
CREATED:20251118T174621Z
LAST-MODIFIED:20251118T174927Z
UID:4504-1763661600-1763667000@casapalestina.es
SUMMARY:Conferencia "Una llamada a la humanidad"
DESCRIPTION:Conferencia «UNA LLAMADA A LA HUMANIDAD» \nDe 18:00 a 19:30 en el Salón Pilar Sinués\, Edificio Paraninfo de Zaragoza (Plaza de Basilio Paraíso\, 4\, 50004 Zaragoza)\nPlazas limitadas. Inscríbete ya:  https://www.tickettailor.com/events/unrwaeduca/1927944 \nConferenciantes: \n– Raquel Martí: Directora ejecutiva del Comité Español de la Agencia de las Naciones Unidas para la población refugiada de Palestina. \n– Teresa Aranguren: Escritora y periodista experta en Oriente Medio. \nOrganiza: UNRWA con la población refugiada de Palestina\, Cátedra de Cooperación para el Desarrollo y Ayto. de Zaragoza.
URL:https://casapalestina.es/event/conferencia-una-llamada-a-la-humanidad/
LOCATION:Paraninfo de Zaragoza\, Plaza de Basilio Paraíso\, 4\, 50004 Zaragoza\, Zaragoza\, Zaragoza\, 50004\, Spain
ATTACH;FMTTYPE=image/jpeg:https://casapalestina.es/wp-content/uploads/2025/11/20_noviembre_paraninfo.jpg
END:VEVENT
BEGIN:VEVENT
DTSTART;TZID=Europe/Madrid:20251119T190000
DTEND;TZID=Europe/Madrid:20251119T190000
DTSTAMP:20260421T104711
CREATED:20251114T015308Z
LAST-MODIFIED:20251118T174625Z
UID:4493-1763578800-1763578800@casapalestina.es
SUMMARY:Concentración Miércoles en Pza. España por el Alto al Fuego
DESCRIPTION:El genocidio continúa…¡ALTO AL FUEGO REAL! \nJusticia y reparación para Palestina. \nTodos los miércoles en Pza. España a las 19:00 h.
URL:https://casapalestina.es/event/concentracion-miercoles-en-pza-espana-por-el-alto-al-fuego-3/
LOCATION:Pza. España / Diputación Provincial de Zaragoza\, Plaza de España\, Zaragoza\, Zaragoza\, 50004\, Spain
ATTACH;FMTTYPE=image/jpeg:https://casapalestina.es/wp-content/uploads/2025/11/19_noviembre_concentracion.jpg
END:VEVENT
BEGIN:VEVENT
DTSTART;TZID=Europe/Madrid:20251118T191500
DTEND;TZID=Europe/Madrid:20251118T191500
DTSTAMP:20260421T104711
CREATED:20251112T140314Z
LAST-MODIFIED:20251112T140603Z
UID:4478-1763493300-1763493300@casapalestina.es
SUMMARY:Charla Tauste Casa Palestina Martes 18
DESCRIPTION:Charla «El holocausto Palestino» con Manolo García Morales\, miembro de la Flotilla Global Sumud e Ibrahim Abiat\, Presidente de la Casa Palestina de Aragón. \nMartes 18 de Noviembre\, 19:15 h. \nSalón de Actos de la Casa de Cultura de Tauste. \nPlaza de Aragon\, 50660 Tauste\, Zaragoza \n 
URL:https://casapalestina.es/event/charla-tauste-casa-palestina-martes-18/
LOCATION:Casa Cultura Tauste\, Pl. de Aragon\, 0\, 50660 Tauste\, Zaragoza\, Tauste\, Zaragoza\, 50660\, Spain
ATTACH;FMTTYPE=image/jpeg:https://casapalestina.es/wp-content/uploads/2025/11/tauste-palestina.jpg
END:VEVENT
BEGIN:VEVENT
DTSTART;TZID=Europe/Madrid:20251116T113000
DTEND;TZID=Europe/Madrid:20251116T123000
DTSTAMP:20260421T104711
CREATED:20251113T215053Z
LAST-MODIFIED:20251113T215053Z
UID:4489-1763292600-1763296200@casapalestina.es
SUMMARY:Vermú solidario en la Madalena Domingo 16
DESCRIPTION:Vermú Solidario en la Madalena – Domingo 16 de Noviembre \n11:30 h. – Charla en La Revuelta (C/ San Agustín\, 18) \n12:30 h. – Vermú en Pottoka con música en directo* (C/ Martín Carrillo\, 5) \n* Todo lo recaudado será donado al Grupo de Ayuda a Refugiadxs en Zaragoza y Red SOS Refugiados Europa \n 
URL:https://casapalestina.es/event/vermu-solidario-en-la-madalena-domingo-16/
LOCATION:Pottoka\, C. de Martín Carrillo\, 5\, Casco Antiguo\, 50001 Zaragoza\, Zaragoza\, Zaragoza\, 50001\, Spain
ATTACH;FMTTYPE=image/jpeg:https://casapalestina.es/wp-content/uploads/2025/11/vermu-solidario-madalena.jpg
END:VEVENT
BEGIN:VEVENT
DTSTART;TZID=Europe/Madrid:20251113T190000
DTEND;TZID=Europe/Madrid:20251113T190000
DTSTAMP:20260421T104711
CREATED:20251113T121547Z
LAST-MODIFIED:20251113T121547Z
UID:4482-1763060400-1763060400@casapalestina.es
SUMMARY:Encuentro con Karim Yunes
DESCRIPTION:Recibimos a Karim Yunes\, símbolo de resistencia y dignidad del pueblo palestino.\nPasó 40 años en cárceles israelíes\, convirtiéndose en el prisionero político palestino que más tiempo ha sobrevivido en los campos de exterminio sionista.\nSu historia es la historia de miles de rehenes palestinas que siguen luchando por su libertad\, por la justicia y la dignidad del pueblo palestino.
URL:https://casapalestina.es/event/encuentro-con-karim-yunes/
LOCATION:Casa Palestina\, C. de Tarragona\, 27\, Delicias\, Zaragoza\, Zaragoza\, 50005\, Spain
ATTACH;FMTTYPE=image/jpeg:https://casapalestina.es/wp-content/uploads/2025/11/karim-yunes.jpg
END:VEVENT
BEGIN:VEVENT
DTSTART;TZID=Europe/Madrid:20251112T190000
DTEND;TZID=Europe/Madrid:20251112T190000
DTSTAMP:20260421T104711
CREATED:20251107T210934Z
LAST-MODIFIED:20251112T015633Z
UID:4383-1762974000-1762974000@casapalestina.es
SUMMARY:Concentración Miércoles en Pza. España por el Alto al Fuego
DESCRIPTION:  \n \nEl genocidio continúa…¡ALTO AL FUEGO REAL! \nJusticia y reparación para Palestina. \nTodos los miércoles en Pza. España a las 19:00 h.
URL:https://casapalestina.es/event/concentracion-miercoles-pza-espana/
LOCATION:Pza. España / Diputación Provincial de Zaragoza\, Plaza de España\, Zaragoza\, Zaragoza\, 50004\, Spain
CATEGORIES:Convocatorias
ATTACH;FMTTYPE=image/jpeg:https://casapalestina.es/wp-content/uploads/2025/11/miercoles12-casa-palestina.jpg
ORGANIZER;CN="Casa Palestina":MAILTO:contacto@casapalestina.es
END:VEVENT
BEGIN:VEVENT
DTSTART;TZID=Europe/Madrid:20251105T190000
DTEND;TZID=Europe/Madrid:20251105T190000
DTSTAMP:20260421T104711
CREATED:20251107T224637Z
LAST-MODIFIED:20251107T225015Z
UID:4451-1762369200-1762369200@casapalestina.es
SUMMARY:Concentración Miércoles en Pza. España por el Alto al Fuego
DESCRIPTION:El genocidio continúa…¡ALTO AL FUEGO REAL! \nJusticia y reparación para Palestina. \nTodos los miércoles en Pza. España a las 19:00 h.
URL:https://casapalestina.es/event/concentracion-miercoles-en-pza-espana-por-el-alto-al-fuego/
LOCATION:Zaragoza
CATEGORIES:Convocatorias
ATTACH;FMTTYPE=image/jpeg:https://casapalestina.es/wp-content/uploads/2025/11/concentracion-pza-espana.jpg
END:VEVENT
BEGIN:VEVENT
DTSTART;TZID=Europe/Madrid:20251029T190000
DTEND;TZID=Europe/Madrid:20251029T190000
DTSTAMP:20260421T104711
CREATED:20251107T225222Z
LAST-MODIFIED:20251112T095814Z
UID:4455-1761764400-1761764400@casapalestina.es
SUMMARY:Concentración Miércoles en Pza. España por el Alto al Fuego
DESCRIPTION:El genocidio continúa…¡ALTO AL FUEGO REAL! \nJusticia y reparación para Palestina. \nTodos los miércoles en Pza. España a las 19:00 h.
URL:https://casapalestina.es/event/concentracion-miercoles-en-pza-espana-por-el-alto-al-fuego-2/
LOCATION:Zaragoza
CATEGORIES:Convocatorias
ATTACH;FMTTYPE=image/jpeg:https://casapalestina.es/wp-content/uploads/2025/11/concentracion-pza-espana_29_oct.jpg
END:VEVENT
END:VCALENDAR