BEGIN:VCALENDAR
VERSION:2.0
PRODID:-//Casa Palestina de Aragón - ECPv6.15.20//NONSGML v1.0//EN
CALSCALE:GREGORIAN
METHOD:PUBLISH
X-WR-CALNAME:Casa Palestina de Aragón
X-ORIGINAL-URL:https://casapalestina.es
X-WR-CALDESC:Eventos para Casa Palestina de Aragón
REFRESH-INTERVAL;VALUE=DURATION:PT1H
X-Robots-Tag:noindex
X-PUBLISHED-TTL:PT1H
BEGIN:VTIMEZONE
TZID:Europe/Madrid
BEGIN:DAYLIGHT
TZOFFSETFROM:+0100
TZOFFSETTO:+0200
TZNAME:CEST
DTSTART:20240331T010000
END:DAYLIGHT
BEGIN:STANDARD
TZOFFSETFROM:+0200
TZOFFSETTO:+0100
TZNAME:CET
DTSTART:20241027T010000
END:STANDARD
BEGIN:DAYLIGHT
TZOFFSETFROM:+0100
TZOFFSETTO:+0200
TZNAME:CEST
DTSTART:20250330T010000
END:DAYLIGHT
BEGIN:STANDARD
TZOFFSETFROM:+0200
TZOFFSETTO:+0100
TZNAME:CET
DTSTART:20251026T010000
END:STANDARD
BEGIN:DAYLIGHT
TZOFFSETFROM:+0100
TZOFFSETTO:+0200
TZNAME:CEST
DTSTART:20260329T010000
END:DAYLIGHT
BEGIN:STANDARD
TZOFFSETFROM:+0200
TZOFFSETTO:+0100
TZNAME:CET
DTSTART:20261025T010000
END:STANDARD
END:VTIMEZONE
BEGIN:VEVENT
DTSTART;TZID=Europe/Madrid:20251210T190000
DTEND;TZID=Europe/Madrid:20251210T190000
DTSTAMP:20260419T140208
CREATED:20251208T230514Z
LAST-MODIFIED:20251208T230729Z
UID:4527-1765393200-1765393200@casapalestina.es
SUMMARY:Concentración Miércoles en Pza. España por el Alto al Fuego
DESCRIPTION:Este miércoles\, Día Internacional de los Derechos Humanos\, nos concentramos una vez más en Zaragoza para alzar la voz por Palestina. Te invitamos a llevar un par de zapatos\, como símbolo de las miles de vidas asesinadas\, de todos los pasos que ya no volverán a caminar. \nQuien quiera puede llevar también una pequeña luz segura para colocar en los zapatos. Será parte de nuestro homenaje colectivo\nNo hay paz con ocupación\nNo hay justicia sin reparación\nViva Palestina libre \n\n10 de Diciembre. Día Internacional de los Derechos Humanos. \nEl genocidio continúa…¡ALTO AL FUEGO REAL! \nJusticia y reparación para Palestina. \nTodos los miércoles en Pza. España a las 19:00 h.
URL:https://casapalestina.es/event/concentracion-miercoles-en-pza-espana-por-el-alto-al-fuego-6/
LOCATION:Pza. España / Diputación Provincial de Zaragoza\, Plaza de España\, Zaragoza\, Zaragoza\, 50004\, Spain
ATTACH;FMTTYPE=image/jpeg:https://casapalestina.es/wp-content/uploads/2025/12/10_diciembre_concentracion.jpg
ORGANIZER;CN="Casa Palestina":MAILTO:contacto@casapalestina.es
END:VEVENT
END:VCALENDAR