BEGIN:VCALENDAR
VERSION:2.0
PRODID:-//Casa Palestina de Aragón - ECPv6.15.20//NONSGML v1.0//EN
CALSCALE:GREGORIAN
METHOD:PUBLISH
X-ORIGINAL-URL:https://casapalestina.es
X-WR-CALDESC:Eventos para Casa Palestina de Aragón
REFRESH-INTERVAL;VALUE=DURATION:PT1H
X-Robots-Tag:noindex
X-PUBLISHED-TTL:PT1H
BEGIN:VTIMEZONE
TZID:Europe/Madrid
BEGIN:DAYLIGHT
TZOFFSETFROM:+0100
TZOFFSETTO:+0200
TZNAME:CEST
DTSTART:20240331T010000
END:DAYLIGHT
BEGIN:STANDARD
TZOFFSETFROM:+0200
TZOFFSETTO:+0100
TZNAME:CET
DTSTART:20241027T010000
END:STANDARD
BEGIN:DAYLIGHT
TZOFFSETFROM:+0100
TZOFFSETTO:+0200
TZNAME:CEST
DTSTART:20250330T010000
END:DAYLIGHT
BEGIN:STANDARD
TZOFFSETFROM:+0200
TZOFFSETTO:+0100
TZNAME:CET
DTSTART:20251026T010000
END:STANDARD
BEGIN:DAYLIGHT
TZOFFSETFROM:+0100
TZOFFSETTO:+0200
TZNAME:CEST
DTSTART:20260329T010000
END:DAYLIGHT
BEGIN:STANDARD
TZOFFSETFROM:+0200
TZOFFSETTO:+0100
TZNAME:CET
DTSTART:20261025T010000
END:STANDARD
END:VTIMEZONE
BEGIN:VEVENT
DTSTART;TZID=Europe/Madrid:20251129T180000
DTEND;TZID=Europe/Madrid:20251129T180000
DTSTAMP:20260419T154903
CREATED:20251117T194150Z
LAST-MODIFIED:20251117T194150Z
UID:4498-1764439200-1764439200@casapalestina.es
SUMMARY:Día Internacional de Solidaridad con el Pueblo Palestino
DESCRIPTION:Este 29 de noviembre\, Día Internacional de Solidaridad con el Pueblo Palestino\, volvemos a las calles en una movilización unitaria para exigir libertad\, justicia y reparación para Palestina.\nLa causa palestina siempre ha encontrado su fuerza en la unidad y en la solidaridad internacional. Esa solidaridad y esa unidad son las que nos sostienen y nos guían.\nPor eso esta convocatoria está construida colectivamente\, con los colectivos\, organizaciones\, partidos y sindicatos que siempre han estado ahí. Gracias por vuestro apoyo constante.\nSi compartís este compromiso\, aún estáis a tiempo de sumaros; avisadnos y nos coordinamos.
URL:https://casapalestina.es/event/dia-internacional-de-solidaridad-con-el-pueblo-palestino/
LOCATION:Glorieta Sasera\, Gta. de Sasera 50008 Zaragoza\, Zaragoza\, Zaragoza\, 50008\, Spain
ATTACH;FMTTYPE=image/jpeg:https://casapalestina.es/wp-content/uploads/2025/11/29-noviembre-solidaridad-pueblo-palestino.jpg
END:VEVENT
END:VCALENDAR