BEGIN:VCALENDAR
VERSION:2.0
PRODID:-//Casa Palestina de Aragón - ECPv6.15.20//NONSGML v1.0//EN
CALSCALE:GREGORIAN
METHOD:PUBLISH
X-ORIGINAL-URL:https://casapalestina.es
X-WR-CALDESC:Eventos para Casa Palestina de Aragón
REFRESH-INTERVAL;VALUE=DURATION:PT1H
X-Robots-Tag:noindex
X-PUBLISHED-TTL:PT1H
BEGIN:VTIMEZONE
TZID:Europe/Madrid
BEGIN:DAYLIGHT
TZOFFSETFROM:+0100
TZOFFSETTO:+0200
TZNAME:CEST
DTSTART:20240331T010000
END:DAYLIGHT
BEGIN:STANDARD
TZOFFSETFROM:+0200
TZOFFSETTO:+0100
TZNAME:CET
DTSTART:20241027T010000
END:STANDARD
BEGIN:DAYLIGHT
TZOFFSETFROM:+0100
TZOFFSETTO:+0200
TZNAME:CEST
DTSTART:20250330T010000
END:DAYLIGHT
BEGIN:STANDARD
TZOFFSETFROM:+0200
TZOFFSETTO:+0100
TZNAME:CET
DTSTART:20251026T010000
END:STANDARD
BEGIN:DAYLIGHT
TZOFFSETFROM:+0100
TZOFFSETTO:+0200
TZNAME:CEST
DTSTART:20260329T010000
END:DAYLIGHT
BEGIN:STANDARD
TZOFFSETFROM:+0200
TZOFFSETTO:+0100
TZNAME:CET
DTSTART:20261025T010000
END:STANDARD
END:VTIMEZONE
BEGIN:VEVENT
DTSTART;TZID=Europe/Madrid:20251125T190000
DTEND;TZID=Europe/Madrid:20251125T190000
DTSTAMP:20260419T154940
CREATED:20251118T175650Z
LAST-MODIFIED:20251121T023642Z
UID:4509-1764097200-1764097200@casapalestina.es
SUMMARY:25N - Día internacional de la eliminación de la violencia contra la mujer
DESCRIPTION:25N – Día internacional de la eliminación de la violencia contra la mujer. \n«Gritamos por las que han sido\, y son\, silenciadas» \n19:00 h. Plaza de España\, Zaragoza
URL:https://casapalestina.es/event/25n-dia-internacional-de-la-eliminacion-de-la-violencia-contra-la-mujer/
LOCATION:Pza. España / Diputación Provincial de Zaragoza\, Plaza de España\, Zaragoza\, Zaragoza\, 50004\, Spain
ATTACH;FMTTYPE=image/png:https://casapalestina.es/wp-content/uploads/2025/11/concentracion_25n_2025.png
END:VEVENT
END:VCALENDAR