BEGIN:VCALENDAR
VERSION:2.0
PRODID:-//Casa Palestina de Aragón - ECPv6.15.20//NONSGML v1.0//EN
CALSCALE:GREGORIAN
METHOD:PUBLISH
X-ORIGINAL-URL:https://casapalestina.es
X-WR-CALDESC:Eventos para Casa Palestina de Aragón
REFRESH-INTERVAL;VALUE=DURATION:PT1H
X-Robots-Tag:noindex
X-PUBLISHED-TTL:PT1H
BEGIN:VTIMEZONE
TZID:Europe/Madrid
BEGIN:DAYLIGHT
TZOFFSETFROM:+0100
TZOFFSETTO:+0200
TZNAME:CEST
DTSTART:20240331T010000
END:DAYLIGHT
BEGIN:STANDARD
TZOFFSETFROM:+0200
TZOFFSETTO:+0100
TZNAME:CET
DTSTART:20241027T010000
END:STANDARD
BEGIN:DAYLIGHT
TZOFFSETFROM:+0100
TZOFFSETTO:+0200
TZNAME:CEST
DTSTART:20250330T010000
END:DAYLIGHT
BEGIN:STANDARD
TZOFFSETFROM:+0200
TZOFFSETTO:+0100
TZNAME:CET
DTSTART:20251026T010000
END:STANDARD
BEGIN:DAYLIGHT
TZOFFSETFROM:+0100
TZOFFSETTO:+0200
TZNAME:CEST
DTSTART:20260329T010000
END:DAYLIGHT
BEGIN:STANDARD
TZOFFSETFROM:+0200
TZOFFSETTO:+0100
TZNAME:CET
DTSTART:20261025T010000
END:STANDARD
END:VTIMEZONE
BEGIN:VEVENT
DTSTART;TZID=Europe/Madrid:20251124T180000
DTEND;TZID=Europe/Madrid:20251124T180000
DTSTAMP:20260419T154900
CREATED:20251112T134925Z
LAST-MODIFIED:20251112T135127Z
UID:4467-1764007200-1764007200@casapalestina.es
SUMMARY:Charla en Borja Lunes 24
DESCRIPTION:Charla con el presidente de la Casa Palestina\, Ibrahim Abiat. \nJusticia y reparacion para Palestina – El genocidio continúa…Alto al Fuego Real. \nLunes 24 de Noviembre a las 18:00 h. \nBiblioteca Casa de las Conchas – C/ San Juan Alta\, 15\, Borja. \n 
URL:https://casapalestina.es/event/charla-en-borja-lunes-24/
LOCATION:C/ San Juan Alta\, 15\, Borja\, Borja\, Zaragoza\, 50540\, Spain
ATTACH;FMTTYPE=image/jpeg:https://casapalestina.es/wp-content/uploads/2025/11/charla-borja.jpg
END:VEVENT
END:VCALENDAR