BEGIN:VCALENDAR
VERSION:2.0
PRODID:-//Casa Palestina de Aragón - ECPv6.15.20//NONSGML v1.0//EN
CALSCALE:GREGORIAN
METHOD:PUBLISH
X-WR-CALNAME:Casa Palestina de Aragón
X-ORIGINAL-URL:https://casapalestina.es
X-WR-CALDESC:Eventos para Casa Palestina de Aragón
REFRESH-INTERVAL;VALUE=DURATION:PT1H
X-Robots-Tag:noindex
X-PUBLISHED-TTL:PT1H
BEGIN:VTIMEZONE
TZID:Europe/Madrid
BEGIN:DAYLIGHT
TZOFFSETFROM:+0100
TZOFFSETTO:+0200
TZNAME:CEST
DTSTART:20240331T010000
END:DAYLIGHT
BEGIN:STANDARD
TZOFFSETFROM:+0200
TZOFFSETTO:+0100
TZNAME:CET
DTSTART:20241027T010000
END:STANDARD
BEGIN:DAYLIGHT
TZOFFSETFROM:+0100
TZOFFSETTO:+0200
TZNAME:CEST
DTSTART:20250330T010000
END:DAYLIGHT
BEGIN:STANDARD
TZOFFSETFROM:+0200
TZOFFSETTO:+0100
TZNAME:CET
DTSTART:20251026T010000
END:STANDARD
BEGIN:DAYLIGHT
TZOFFSETFROM:+0100
TZOFFSETTO:+0200
TZNAME:CEST
DTSTART:20260329T010000
END:DAYLIGHT
BEGIN:STANDARD
TZOFFSETFROM:+0200
TZOFFSETTO:+0100
TZNAME:CET
DTSTART:20261025T010000
END:STANDARD
END:VTIMEZONE
BEGIN:VEVENT
DTSTART;TZID=Europe/Madrid:20251122T190000
DTEND;TZID=Europe/Madrid:20251122T190000
DTSTAMP:20260419T154906
CREATED:20251119T010923Z
LAST-MODIFIED:20251119T010923Z
UID:4514-1763838000-1763838000@casapalestina.es
SUMMARY:Concentración por Sudán y la República Democrática del Congo
DESCRIPTION:CONCENTRACIÓN POR SUDÁN Y LA REPÚBLICA DEMOCRÁTICA DEL CONGO\nDENUNCIAMOS EL GENOCIDIO CONTRA LOS PUEBLOS NEGROS. \nInvita Movimiento Antirracista – Zgz y @reddeaccionpanaf \n📍 Plaza España (frente a la Diputación Provincial)\, Zaragoza\n📅 22 de noviembre\n⏰ 19:00 h \nLas guerras\, los desplazamientos forzados\, las masacres sistemáticas y la violencia sexual utilizada como arma de guerra siguen dejando una herida abierta en Sudán y en la República Democrática del Congo. Mientras miles de vidas negras son arrancadas\, el silencio internacional continúa siendo ensordecedor. \nNos convocamos para alzar la voz frente a las violaciones de derechos humanos\, para denunciar los intereses económicos y geopolíticos que perpetúan estos conflictos\, y para recordar que ninguna vida es prescindible. \nPorque lo que está pasando es genocidio. Porque la indiferencia también es violencia.\nAcompáñanos a exigir justicia\, reparación y el fin de la impunidad. \n¡Tu presencia importa!
URL:https://casapalestina.es/event/concentracion-por-sudan-y-la-republica-democratica-del-congo/
LOCATION:Pza. España / Diputación Provincial de Zaragoza\, Plaza de España\, Zaragoza\, Zaragoza\, 50004\, Spain
ATTACH;FMTTYPE=image/jpeg:https://casapalestina.es/wp-content/uploads/2025/11/22_nov_congo_sudan.jpg
END:VEVENT
END:VCALENDAR